Workbook

Sheet Teacher
A1: Jeopardy Title | B1: Jeopardy
A3: Category 1 | B3: Category 1
A4: Question 1 | B4: Category 1 Question 1 | C4: Answer 1 | D4: Category 1 Answer 1
A5: Question 2 | B5: Category 1 Question 2 | C5: Answer 2 | D5: Category 1 Answer 2
A6: Question 3 | B6: Category 1 Question 3 | C6: Answer 3 | D6: Category 1 Answer 3
A7: Question 4 | B7: Category 1 Question 4 | C7: Answer 4 | D7: Category 1 Answer 4
A8: Question 5 | B8: Category 1 Question 5 | C8: Answer 5 | D8: Category 1 Answer 5
A10: Category 2 | B10: Category 2
A11: Question 1 | B11: Category 2 Question 1 | C11: Answer 1 | D11: Category 2 Answer 1
A12: Question 2 | B12: Category 2 Question 2 | C12: Answer 2 | D12: Category 2 Answer 2
A13: Question 3 | B13: Category 2 Question 3 | C13: Answer 3 | D13: Category 2 Answer 3
A14: Question 4 | B14: Category 2 Question 4 | C14: Answer 4 | D14: Category 2 Answer 4
A15: Question 5 | B15: Category 2 Question 5 | C15: Answer 5 | D15: Category 2 Answer 5
A17: Category 3 | B17: Category 3
A18: Question 1 | B18: Category 3 Question 1 | C18: Answer 1 | D18: Category 3 Answer 1
A19: Question 2 | B19: Category 3 Question 2 | C19: Answer 2 | D19: Category 3 Answer 2
A20: Question 3 | B20: Category 3 Question 3 | C20: Answer 3 | D20: Category 3 Answer 3
A21: Question 4 | B21: Category 3 Question 4 | C21: Answer 4 | D21: Category 3 Answer 4
A22: Question 5 | B22: Category 3 Question 5 | C22: Answer 5 | D22: Category 3 Answer 5
A24: Category 4 | B24: Category 4
A25: Question 1 | B25: Category 4 Question 1 | C25: Answer 1 | D25: Category 4 Answer 1
A26: Question 2 | B26: Category 4 Question 2 | C26: Answer 2 | D26: Category 4 Answer 2
A27: Question 3 | B27: Category 4 Question 3 | C27: Answer 3 | D27: Category 4 Answer 3
A28: Question 4 | B28: Category 4 Question 4 | C28: Answer 4 | D28: Category 4 Answer 4
A29: Question 5 | B29: Category 4 Question 5 | C29: Answer 5 | D29: Category 4 Answer 5
A31: Category 5 | B31: Category 5
A32: Question 1 | B32: Category 5 Question 1 | C32: Answer 1 | D32: Category 5 Answer 1
A33: Question 2 | B33: Category 5 Question 2 | C33: Answer 2 | D33: Category 5 Answer 2
A34: Question 3 | B34: Category 5 Question 3 | C34: Answer 3 | D34: Category 5 Answer 3
A35: Question 4 | B35: Category 5 Question 4 | C35: Answer 4 | D35: Category 5 Answer 4
A36: Question 5 | B36: Category 5 Question 5 | C36: Answer 5 | D36: Category 5 Answer 5
A38: Final Jeopardy
A39: Category | B39: Final Category | D39: Click here to start the game
A40: Final Question | B40: Final Question
A41: Final Answer | B41: Final Answer

Sheet Start
A1: =Teacher!B1 -> Jeopardy | G1: Team 1 | H1: Team 2
A2: =Teacher!B3 -> Category 1 | B2: =Teacher!B10 -> Category 2 | C2: =Teacher!B17 -> Category 3 | D2: =Teacher!B24 -> Category 4 | E2: =Teacher!B31 -> Category 5 | G2: =Score!B29 -> 0 | H2: =Score!B30 -> 0
A3: 10 | B3: 10 | C3: 10 | D3: 10 | E3: 10
A4: 20 | B4: 20 | C4: 20 | D4: 20 | E4: 20
A5: 30 | B5: 30 | C5: 30 | D5: 30 | E5: 30 | G5: Click Here for Final Jeopardy
A6: 40 | B6: 40 | C6: 40 | D6: 40 | E6: 40
A7: 50 | B7: 50 | C7: 50 | D7: 50 | E7: 50

Sheet Cat1
A2: =Teacher!B4 -> Category 1 Question 1 | C2: =Teacher!D4 -> Category 1 Answer 1
A3: Check Answer | C3: Return To Game
C5: Which team got the answer correct? Enter a 1 or 2.
C6: Which team got the answer incorrect? Enter a 1 or 2 (or leave blank).
A11: =Teacher!B5 -> Category 1 Question 2 | C11: =Teacher!D5 -> Category 1 Answer 2
A12: Check Answer | C12: Return To Game
C14: Which team got the answer correct? Enter a 1 or 2.
C15: Which team got the answer incorrect? Enter a 1 or 2 (or leave blank).
A21: =Teacher!B6 -> Category 1 Question 3 | C21: =Teacher!D6 -> Category 1 Answer 3
A22: Check Answer | C22: Return To Game
C24: Which team got the answer correct? Enter a 1 or 2.
C25: Which team got the answer incorrect? Enter a 1 or 2 (or leave blank).
A31: =Teacher!B7 -> Category 1 Question 4 | C31: =Teacher!D7 -> Category 1 Answer 4
A32: Check Answer | C32: Return To Game
C34: Which team got the answer correct? Enter a 1 or 2.
C35: Which team got the answer incorrect? Enter a 1 or 2 (or leave blank).
A41: =Teacher!B8 -> Category 1 Question 5 | C41: =Teacher!D8 -> Category 1 Answer 5
A42: Check Answer | C42: Return To Game
C44: Which team got the answer correct? Enter a 1 or 2.
C45: Which team got the answer incorrect? Enter a 1 or 2 (or leave blank).

Sheet Cat2
A2: =Teacher!B11 -> Category 2 Question 1 | C2: =Teacher!D11 -> Category 2 Answer 1
A3: Check Answer | C3: Return To Game
C5: Which team got the answer correct? Enter a 1 or 2.
C6: Which team got the answer incorrect? Enter a 1 or 2 (or leave blank).
A11: =Teacher!B12 -> Category 2 Question 2 | C11: =Teacher!D12 -> Category 2 Answer 2
A12: Check Answer | C12: Return To Game
C14: Which team got the answer correct? Enter a 1 or 2.
C15: Which team got the answer incorrect? Enter a 1 or 2 (or leave blank).
A21: =Teacher!B13 -> Category 2 Question 3 | C21: =Teacher!D13 -> Category 2 Answer 3
A22: Check Answer | C22: Return To Game
C24: Which team got the answer correct? Enter a 1 or 2.
C25: Which team got the answer incorrect? Enter a 1 or 2 (or leave blank).
A31: =Teacher!B14 -> Category 2 Question 4 | C31: =Teacher!D14 -> Category 2 Answer 4
A32: Check Answer | C32: Return To Game
C34: Which team got the answer correct? Enter a 1 or 2.
C35: Which team got the answer incorrect? Enter a 1 or 2 (or leave blank).
A41: =Teacher!B15 -> Category 2 Question 5 | C41: =Teacher!D15 -> Category 2 Answer 5
A42: Check Answer | C42: Return To Game
C44: Which team got the answer correct? Enter a 1 or 2.
C45: Which team got the answer incorrect? Enter a 1 or 2 (or leave blank).

Sheet Cat3
A2: =Teacher!B18 -> Category 3 Question 1 | C2: =Teacher!D18 -> Category 3 Answer 1
A3: Check Answer | C3: Return To Game
C5: Which team got the answer correct? Enter a 1 or 2.
C6: Which team got the answer incorrect? Enter a 1 or 2 (or leave blank).
A11: =Teacher!B19 -> Category 3 Question 2 | C11: =Teacher!D19 -> Category 3 Answer 2
A12: Check Answer | C12: Return To Game
C14: Which team got the answer correct? Enter a 1 or 2.
C15: Which team got the answer incorrect? Enter a 1 or 2 (or leave blank).
A21: =Teacher!B20 -> Category 3 Question 3 | C21: =Teacher!D20 -> Category 3 Answer 3
A22: Check Answer | C22: Return To Game
C24: Which team got the answer correct? Enter a 1 or 2.
C25: Which team got the answer incorrect? Enter a 1 or 2 (or leave blank).
A31: =Teacher!B21 -> Category 3 Question 4 | C31: =Teacher!D21 -> Category 3 Answer 4
A32: Check Answer | C32: Return To Game
C34: Which team got the answer correct? Enter a 1 or 2.
C35: Which team got the answer incorrect? Enter a 1 or 2 (or leave blank).
A41: =Teacher!B22 -> Category 3 Question 5 | C41: =Teacher!D22 -> Category 3 Answer 5
A42: Check Answer | C42: Return To Game
C44: Which team got the answer correct? Enter a 1 or 2.
C45: Which team got the answer incorrect? Enter a 1 or 2 (or leave blank).

Sheet Cat4
A2: =Teacher!B25 -> Category 4 Question 1 | C2: =Teacher!D25 -> Category 4 Answer 1
A3: Check Answer | C3: Return To Game
C5: Which team got the answer correct? Enter a 1 or 2.
C6: Which team got the answer incorrect? Enter a 1 or 2 (or leave blank).
A11: =Teacher!B26 -> Category 4 Question 2 | C11: =Teacher!D26 -> Category 4 Answer 2
A12: Check Answer | C12: Return To Game
C14: Which team got the answer correct? Enter a 1 or 2.
C15: Which team got the answer incorrect? Enter a 1 or 2 (or leave blank).
A21: =Teacher!B27 -> Category 4 Question 3 | C21: =Teacher!D27 -> Category 4 Answer 3
A22: Check Answer | C22: Return To Game
C24: Which team got the answer correct? Enter a 1 or 2.
C25: Which team got the answer incorrect? Enter a 1 or 2 (or leave blank).
A31: =Teacher!B28 -> Category 4 Question 4 | C31: =Teacher!D28 -> Category 4 Answer 4
A32: Check Answer | C32: Return To Game
C34: Which team got the answer correct? Enter a 1 or 2.
C35: Which team got the answer incorrect? Enter a 1 or 2 (or leave blank).
A41: =Teacher!B29 -> Category 4 Question 5 | C41: =Teacher!D29 -> Category 4 Answer 5
A42: Check Answer | C42: Return To Game
C44: Which team got the answer correct? Enter a 1 or 2.
C45: Which team got the answer incorrect? Enter a 1 or 2 (or leave blank).

Sheet Cat5
A2: =Teacher!B32 -> Category 5 Question 1 | C2: =Teacher!D32 -> Category 5 Answer 1
A3: Check Answer | C3: Return To Game
C5: Which team got the answer correct? Enter a 1 or 2.
C6: Which team got the answer incorrect? Enter a 1 or 2 (or leave blank).
A11: =Teacher!B33 -> Category 5 Question 2 | C11: =Teacher!D33 -> Category 5 Answer 2
A12: Check Answer | C12: Return To Game
C14: Which team got the answer correct? Enter a 1 or 2.
C15: Which team got the answer incorrect? Enter a 1 or 2 (or leave blank).
A21: =Teacher!B34 -> Category 5 Question 3 | C21: =Teacher!D34 -> Category 5 Answer 3
A22: Check Answer | C22: Return To Game
C24: Which team got the answer correct? Enter a 1 or 2.
C25: Which team got the answer incorrect? Enter a 1 or 2 (or leave blank).
A31: =Teacher!B35 -> Category 5 Question 4 | C31: =Teacher!D35 -> Category 5 Answer 4
A32: Check Answer | C32: Return To Game
C34: Which team got the answer correct? Enter a 1 or 2.
C35: Which team got the answer incorrect? Enter a 1 or 2 (or leave blank).
A41: =Teacher!B36 -> Category 5 Question 5 | C41: =Teacher!D36 -> Category 5 Answer 5
A42: Check Answer | C42: Return To Game
C44: Which team got the answer correct? Enter a 1 or 2.
C45: Which team got the answer incorrect? Enter a 1 or 2 (or leave blank).

Sheet FinJep
A1: =Teacher!B39 -> Final Category
A3: ="Team 1, you have "&Start!G2&" points. How many would you like to wager?" -> Team 1, you have 0 points. How many would you like to wager? | C3: ="Team 1, you have "&Start!H2&" points. How many would you like to wager?" -> Team 1, you have 0 points. How many would you like to wager?
A4: 0 | C4: 0
A5: Enter a point total above. | C5: Enter a point total above.
A7: Click here for the Final Jeopardy Question
A9: =Teacher!B40 -> Final Question
A10: Check Answer
A15: =Teacher!B41 -> Final Answer
A16: And the winner is…
A18: Was Team 1 correct? (Y or N)
A19: Was Team 2 correct? (Y or N)
A22: Congratulations!
A23: =Score!F37 -> Team 2
A24: You have won the game!
A25: Click here to end game

Sheet Score
B1: Team 1 | C1: Team 2 | G1: Team 1 | H1: Team 2
A2: c1q1 | B2: =IF('Cat1'!D$5="","",IF('Cat1'!D$5=1,Score!D2,"")) | C2: =IF('Cat1'!D$5="","",IF('Cat1'!D$5=2,Score!D2,"")) | D2: 10 | F2: c1q1 | G2: =IF('Cat1'!D$6="","",IF('Cat1'!D$6=1,Score!I2,"")) | H2: =IF('Cat1'!D$6="","",IF('Cat1'!D$6=2,Score!I2,"")) | I2: -10
A3: c1q2 | B3: =IF('Cat1'!D$14="","",IF('Cat1'!D$14=1,Score!D3,"")) | C3: =IF('Cat1'!D$14="","",IF('Cat1'!D$14=2,Score!D3,"")) | D3: 20 | F3: c1q2 | G3: =IF('Cat1'!D$15="","",IF('Cat1'!D$15=1,Score!I3,"")) | H3: =IF('Cat1'!D$15="","",IF('Cat1'!D$15=2,Score!I3,"")) | I3: -20
A4: c1q3 | B4: =IF('Cat1'!D$24="","",IF('Cat1'!D$24=1,Score!D4,"")) | C4: =IF('Cat1'!D$24="","",IF('Cat1'!D$24=2,Score!D4,"")) | D4: 30 | F4: c1q3 | G4: =IF('Cat1'!D$25="","",IF('Cat1'!D$25=1,Score!I4,"")) | H4: =IF('Cat1'!D$25="","",IF('Cat1'!D$25=2,Score!I4,"")) | I4: -30
A5: c1q4 | B5: =IF('Cat1'!D$34="","",IF('Cat1'!D$34=1,Score!D5,"")) | C5: =IF('Cat1'!D$34="","",IF('Cat1'!D$34=2,Score!D5,"")) | D5: 40 | F5: c1q4 | G5: =IF('Cat1'!D$35="","",IF('Cat1'!D$35=1,Score!I5,"")) | H5: =IF('Cat1'!D$35="","",IF('Cat1'!D$35=2,Score!I5,"")) | I5: -40
A6: c1q5 | B6: =IF('Cat1'!D$44="","",IF('Cat1'!D$44=1,Score!D6,"")) | C6: =IF('Cat1'!D$44="","",IF('Cat1'!D$44=2,Score!D6,"")) | D6: 50 | F6: c1q5 | G6: =IF('Cat1'!D$45="","",IF('Cat1'!D$45=1,Score!I6,"")) | H6: =IF('Cat1'!D$45="","",IF('Cat1'!D$45=2,Score!I6,"")) | I6: -50
A7: c2q1 | B7: =IF('Cat2'!D$5="","",IF('Cat2'!D$5=1,Score!D7,"")) | C7: =IF('Cat2'!D$5="","",IF('Cat2'!D$5=2,Score!D7,"")) | D7: 10 | F7: c2q1 | G7: =IF('Cat2'!D$6="","",IF('Cat2'!D$6=1,Score!I7,"")) | H7: =IF('Cat2'!D$6="","",IF('Cat2'!D$6=2,Score!I7,"")) | I7: -10
A8: c2q2 | B8: =IF('Cat2'!D$14="","",IF('Cat2'!D$14=1,Score!D8,"")) | C8: =IF('Cat2'!D$14="","",IF('Cat2'!D$14=2,Score!D8,"")) | D8: 20 | F8: c2q2 | G8: =IF('Cat2'!D$15="","",IF('Cat2'!D$15=1,Score!I8,"")) | H8: =IF('Cat2'!D$15="","",IF('Cat2'!D$15=2,Score!I8,"")) | I8: -20
A9: c2q3 | B9: =IF('Cat2'!D$24="","",IF('Cat2'!D$24=1,Score!D9,"")) | C9: =IF('Cat2'!D$24="","",IF('Cat2'!D$24=2,Score!D9,"")) | D9: 30 | F9: c2q3 | G9: =IF('Cat2'!D$25="","",IF('Cat2'!D$25=1,Score!I9,"")) | H9: =IF('Cat2'!D$25="","",IF('Cat2'!D$25=2,Score!I9,"")) | I9: -30
A10: c2q4 | B10: =IF('Cat2'!D$34="","",IF('Cat2'!D$34=1,Score!D10,"")) | C10: =IF('Cat2'!D$34="","",IF('Cat2'!D$34=2,Score!D10,"")) | D10: 40 | F10: c2q4 | G10: =IF('Cat2'!D$35="","",IF('Cat2'!D$35=1,Score!I10,"")) | H10: =IF('Cat2'!D$35="","",IF('Cat2'!D$35=2,Score!I10,"")) | I10: -40
A11: c2q5 | B11: =IF('Cat2'!D$44="","",IF('Cat2'!D$44=1,Score!D11,"")) | C11: =IF('Cat2'!D$44="","",IF('Cat2'!D$44=2,Score!D11,"")) | D11: 50 | F11: c2q5 | G11: =IF('Cat2'!D$45="","",IF('Cat2'!D$45=1,Score!I11,"")) | H11: =IF('Cat2'!D$45="","",IF('Cat2'!D$45=2,Score!I11,"")) | I11: -50
A12: c3q1 | B12: =IF('Cat3'!D$5="","",IF('Cat3'!D$5=1,Score!D12,"")) | C12: =IF('Cat3'!D$5="","",IF('Cat3'!D$5=2,Score!D12,"")) | D12: 10 | F12: c3q1 | G12: =IF('Cat3'!D$6="","",IF('Cat3'!D$6=1,Score!I12,"")) | H12: =IF('Cat3'!D$6="","",IF('Cat3'!D$6=2,Score!I12,"")) | I12: -10
A13: c3q2 | B13: =IF('Cat3'!D$14="","",IF('Cat3'!D$14=1,Score!D13,"")) | C13: =IF('Cat3'!D$14="","",IF('Cat3'!D$14=2,Score!D13,"")) | D13: 20 | F13: c3q2 | G13: =IF('Cat3'!D$15="","",IF('Cat3'!D$15=1,Score!I13,"")) | H13: =IF('Cat3'!D$15="","",IF('Cat3'!D$15=2,Score!I13,"")) | I13: -20
A14: c3q3 | B14: =IF('Cat3'!D$24="","",IF('Cat3'!D$24=1,Score!D14,"")) | C14: =IF('Cat3'!D$24="","",IF('Cat3'!D$24=2,Score!D14,"")) | D14: 30 | F14: c3q3 | G14: =IF('Cat3'!D$25="","",IF('Cat3'!D$25=1,Score!I14,"")) | H14: =IF('Cat3'!D$25="","",IF('Cat3'!D$25=2,Score!I14,"")) | I14: -30
A15: c3q4 | B15: =IF('Cat3'!D$34="","",IF('Cat3'!D$34=1,Score!D15,"")) | C15: =IF('Cat3'!D$34="","",IF('Cat3'!D$34=2,Score!D15,"")) | D15: 40 | F15: c3q4 | G15: =IF('Cat3'!D$35="","",IF('Cat3'!D$35=1,Score!I15,"")) | H15: =IF('Cat3'!D$35="","",IF('Cat3'!D$35=2,Score!I15,"")) | I15: -40
A16: c3q5 | B16: =IF('Cat3'!D$44="","",IF('Cat3'!D$44=1,Score!D16,"")) | C16: =IF('Cat3'!D$44="","",IF('Cat3'!D$44=2,Score!D16,"")) | D16: 50 | F16: c3q5 | G16: =IF('Cat3'!D$45="","",IF('Cat3'!D$45=1,Score!I16,"")) | H16: =IF('Cat3'!D$45="","",IF('Cat3'!D$45=2,Score!I16,"")) | I16: -50
A17: c4q1 | B17: =IF('Cat4'!D$5="","",IF('Cat4'!D$5=1,Score!D17,"")) | C17: =IF('Cat4'!D$5="","",IF('Cat4'!D$5=2,Score!D17,"")) | D17: 10 | F17: c4q1 | G17: =IF('Cat4'!D$6="","",IF('Cat4'!D$6=1,Score!I17,"")) | H17: =IF('Cat4'!D$6="","",IF('Cat4'!D$6=2,Score!I17,"")) | I17: -10
A18: c4q2 | B18: =IF('Cat4'!D$14="","",IF('Cat4'!D$14=1,Score!D18,"")) | C18: =IF('Cat4'!D$14="","",IF('Cat4'!D$14=2,Score!D18,"")) | D18: 20 | F18: c4q2 | G18: =IF('Cat4'!D$15="","",IF('Cat4'!D$15=1,Score!I18,"")) | H18: =IF('Cat4'!D$15="","",IF('Cat4'!D$15=2,Score!I18,"")) | I18: -20
A19: c4q3 | B19: =IF('Cat4'!D$24="","",IF('Cat4'!D$24=1,Score!D19,"")) | C19: =IF('Cat4'!D$24="","",IF('Cat4'!D$24=2,Score!D19,"")) | D19: 30 | F19: c4q3 | G19: =IF('Cat4'!D$25="","",IF('Cat4'!D$25=1,Score!I19,"")) | H19: =IF('Cat4'!D$25="","",IF('Cat4'!D$25=2,Score!I19,"")) | I19: -30
A20: c4q4 | B20: =IF('Cat4'!D$34="","",IF('Cat4'!D$34=1,Score!D20,"")) | C20: =IF('Cat4'!D$34="","",IF('Cat4'!D$34=2,Score!D20,"")) | D20: 40 | F20: c4q4 | G20: =IF('Cat4'!D$35="","",IF('Cat4'!D$35=1,Score!I20,"")) | H20: =IF('Cat4'!D$35="","",IF('Cat4'!D$35=2,Score!I20,"")) | I20: -40
A21: c4q5 | B21: =IF('Cat4'!D$44="","",IF('Cat4'!D$44=1,Score!D21,"")) | C21: =IF('Cat4'!D$44="","",IF('Cat4'!D$44=2,Score!D21,"")) | D21: 50 | F21: c4q5 | G21: =IF('Cat4'!D$45="","",IF('Cat4'!D$45=1,Score!I21,"")) | H21: =IF('Cat4'!D$45="","",IF('Cat4'!D$45=2,Score!I21,"")) | I21: -50
A22: c5q1 | B22: =IF('Cat5'!D$5="","",IF('Cat5'!D$5=1,Score!D22,"")) | C22: =IF('Cat5'!D$5="","",IF('Cat5'!D$5=2,Score!D22,"")) | D22: 10 | F22: c5q1 | G22: =IF('Cat5'!D$6="","",IF('Cat5'!D$6=1,Score!I22,"")) | H22: =IF('Cat5'!D$6="","",IF('Cat5'!D$6=2,Score!I22,"")) | I22: -10
A23: c5q2 | B23: =IF('Cat5'!D$14="","",IF('Cat5'!D$14=1,Score!D23,"")) | C23: =IF('Cat5'!D$14="","",IF('Cat5'!D$14=2,Score!D23,"")) | D23: 20 | F23: c5q2 | G23: =IF('Cat5'!D$15="","",IF('Cat5'!D$15=1,Score!I23,"")) | H23: =IF('Cat5'!D$15="","",IF('Cat5'!D$15=2,Score!I23,"")) | I23: -20
A24: c5q3 | B24: =IF('Cat5'!D$24="","",IF('Cat5'!D$24=1,Score!D24,"")) | C24: =IF('Cat5'!D$24="","",IF('Cat5'!D$24=2,Score!D24,"")) | D24: 30 | F24: c5q3 | G24: =IF('Cat5'!D$25="","",IF('Cat5'!D$25=1,Score!I24,"")) | H24: =IF('Cat5'!D$25="","",IF('Cat5'!D$25=2,Score!I24,"")) | I24: -30
A25: c5q4 | B25: =IF('Cat5'!D$34="","",IF('Cat5'!D$34=1,Score!D25,"")) | C25: =IF('Cat5'!D$34="","",IF('Cat5'!D$34=2,Score!D25,"")) | D25: 40 | F25: c5q4 | G25: =IF('Cat5'!D$35="","",IF('Cat5'!D$35=1,Score!I25,"")) | H25: =IF('Cat5'!D$35="","",IF('Cat5'!D$35=2,Score!I25,"")) | I25: -40
A26: c5q5 | B26: =IF('Cat5'!D$44="","",IF('Cat5'!D$44=1,Score!D26,"")) | C26: =IF('Cat5'!D$44="","",IF('Cat5'!D$44=2,Score!D26,"")) | D26: 50 | F26: c5q5 | G26: =IF('Cat5'!D$45="","",IF('Cat5'!D$45=1,Score!I26,"")) | H26: =IF('Cat5'!D$45="","",IF('Cat5'!D$45=2,Score!I26,"")) | I26: -50
A27: totals | B27: =SUM(B2:B26) -> 0 | C27: =SUM(C2:C26) -> 0 | F27: totals | G27: =SUM(G2:G26) -> 0 | H27: =SUM(H2:H26) -> 0
A29: Team 1 | B29: =B27+G27 -> 0
A30: Team 2 | B30: =C27+H27 -> 0
A32: Final Jeopardy Wagers
A33: Team 1 | B33: =FinJep!A4 -> 0 | C33: Outcome | D33: =FinJep!B18 -> 0 | E33: =IF(D33="y",B33,-B33) -> 0
A34: Team 2 | B34: =FinJep!C4 -> 0 | C34: Outcome | D34: =FinJep!B19 -> 0 | E34: =IF(D34="y",B34,-B34) -> 0
A36: Finals
A37: Team 1 | B37: =B29+E33 -> 0 | E37: Winner | F37: =IF(B37>B38,A37,A38) -> Team 2
A38: Team 2 | B38: =B30+E34 -> 0
